BEGIN:VCALENDAR
VERSION:2.0
CALSCALE:GREGORIAN
METHOD:PUBLISH
X-WR-TIMEZONE:Australia/Sydney
BEGIN:VTIMEZONE
TZID:Australia/Sydney
BEGIN:STANDARD
TZNAME:AEST
DTSTART:19700101T000000
TZOFFSETFROM:+1100
TZOFFSETTO:+1000
END:STANDARD
END:VTIMEZONE
BEGIN:VEVENT
DTSTART;TZID=Australia/Sydney:20260508T073000
DTEND;TZID=Australia/Sydney:20260508T083000
DTSTAMP:20260425T223915
UID:9
SUMMARY:Mother&#039;s Day Breakfast
DESCRIPTION:




Come and join us for a Coffee from 7.30amA Mothers Day Stall will be held during school hours for all KVPS students + Kiewa Valley Kindergarden. All gift are $10.00


SEQUENCE:0
STATUS:CONFIRMED
TRANSP:OPAQUE
END:VEVENT
END:VCALENDAR